BEGIN:VCALENDAR
VERSION:2.0
PRODID:-//Annaschule Mönchengladbach - ECPv6.15.18//NONSGML v1.0//EN
CALSCALE:GREGORIAN
METHOD:PUBLISH
X-WR-CALNAME:Annaschule Mönchengladbach
X-ORIGINAL-URL:https://www.annaschule-moenchengladbach.de
X-WR-CALDESC:Veranstaltungen für Annaschule Mönchengladbach
REFRESH-INTERVAL;VALUE=DURATION:PT1H
X-Robots-Tag:noindex
X-PUBLISHED-TTL:PT1H
BEGIN:VTIMEZONE
TZID:Europe/Berlin
BEGIN:DAYLIGHT
TZOFFSETFROM:+0100
TZOFFSETTO:+0200
TZNAME:CEST
DTSTART:20210328T010000
END:DAYLIGHT
BEGIN:STANDARD
TZOFFSETFROM:+0200
TZOFFSETTO:+0100
TZNAME:CET
DTSTART:20211031T010000
END:STANDARD
BEGIN:DAYLIGHT
TZOFFSETFROM:+0100
TZOFFSETTO:+0200
TZNAME:CEST
DTSTART:20220327T010000
END:DAYLIGHT
BEGIN:STANDARD
TZOFFSETFROM:+0200
TZOFFSETTO:+0100
TZNAME:CET
DTSTART:20221030T010000
END:STANDARD
BEGIN:DAYLIGHT
TZOFFSETFROM:+0100
TZOFFSETTO:+0200
TZNAME:CEST
DTSTART:20230326T010000
END:DAYLIGHT
BEGIN:STANDARD
TZOFFSETFROM:+0200
TZOFFSETTO:+0100
TZNAME:CET
DTSTART:20231029T010000
END:STANDARD
BEGIN:DAYLIGHT
TZOFFSETFROM:+0100
TZOFFSETTO:+0200
TZNAME:CEST
DTSTART:20240331T010000
END:DAYLIGHT
BEGIN:STANDARD
TZOFFSETFROM:+0200
TZOFFSETTO:+0100
TZNAME:CET
DTSTART:20241027T010000
END:STANDARD
END:VTIMEZONE
BEGIN:VEVENT
DTSTART;VALUE=DATE:20221223
DTEND;VALUE=DATE:20230107
DTSTAMP:20260420T230016
CREATED:20220927T144222Z
LAST-MODIFIED:20220927T144222Z
UID:4817-1671753600-1673049599@www.annaschule-moenchengladbach.de
SUMMARY:Weihnachtsferien
DESCRIPTION:
URL:https://www.annaschule-moenchengladbach.de/event/weihnachtsferien-4/
END:VEVENT
BEGIN:VEVENT
DTSTART;TZID=Europe/Berlin:20230109T080000
DTEND;TZID=Europe/Berlin:20230109T133000
DTSTAMP:20260420T230016
CREATED:20220927T144248Z
LAST-MODIFIED:20220927T144248Z
UID:4819-1673251200-1673271000@www.annaschule-moenchengladbach.de
SUMMARY:1. Schultag
DESCRIPTION:
URL:https://www.annaschule-moenchengladbach.de/event/1-schultag/
END:VEVENT
BEGIN:VEVENT
DTSTART;TZID=Europe/Berlin:20230112T080000
DTEND;TZID=Europe/Berlin:20230112T090000
DTSTAMP:20260420T230016
CREATED:20220927T144325Z
LAST-MODIFIED:20220927T144325Z
UID:4821-1673510400-1673514000@www.annaschule-moenchengladbach.de
SUMMARY:Schulgottesdienst 3. Klassen
DESCRIPTION:
URL:https://www.annaschule-moenchengladbach.de/event/schulgottesdienst-3-klassen-2/
END:VEVENT
BEGIN:VEVENT
DTSTART;TZID=Europe/Berlin:20230120T080000
DTEND;TZID=Europe/Berlin:20230120T110000
DTSTAMP:20260420T230016
CREATED:20220927T144448Z
LAST-MODIFIED:20220927T144448Z
UID:4823-1674201600-1674212400@www.annaschule-moenchengladbach.de
SUMMARY:Zeugnisausgabe
DESCRIPTION:Für die Klassen 3 und 4. \nUnterrichtsschluss für alle Klassen um 11.00 Uhr\, die Betreuung findet wie gewohnt statt.
URL:https://www.annaschule-moenchengladbach.de/event/zeugnisausgabe-4/
END:VEVENT
BEGIN:VEVENT
DTSTART;TZID=Europe/Berlin:20230126T080000
DTEND;TZID=Europe/Berlin:20230126T090000
DTSTAMP:20260420T230016
CREATED:20220927T144536Z
LAST-MODIFIED:20220927T144536Z
UID:4825-1674720000-1674723600@www.annaschule-moenchengladbach.de
SUMMARY:Schulgottesdienst 4. Klassen
DESCRIPTION:
URL:https://www.annaschule-moenchengladbach.de/event/schulgottesdienst-4-klassen-2/
END:VEVENT
END:VCALENDAR